BEGIN:VCALENDAR
VERSION:2.0
PRODID:-//SLSA - ECPv6.6.2//NONSGML v1.0//EN
CALSCALE:GREGORIAN
METHOD:PUBLISH
X-ORIGINAL-URL:https://slsaeu.it
X-WR-CALDESC:Events for SLSA
REFRESH-INTERVAL;VALUE=DURATION:PT1H
X-Robots-Tag:noindex
X-PUBLISHED-TTL:PT1H
BEGIN:VTIMEZONE
TZID:UTC
BEGIN:STANDARD
TZOFFSETFROM:+0000
TZOFFSETTO:+0000
TZNAME:UTC
DTSTART:20250101T000000
END:STANDARD
END:VTIMEZONE
BEGIN:VEVENT
DTSTART;TZID=UTC:20250329T080000
DTEND;TZID=UTC:20250329T170000
DTSTAMP:20260423T143759
CREATED:20250408T215742Z
LAST-MODIFIED:20250408T215928Z
UID:886-1743235200-1743267600@slsaeu.it
SUMMARY:Cricket tournament 2025
DESCRIPTION:The Sri Lankan Students’ Association at Politecnico di Torino is excited to announce our thrilling cricket match held on March 29th! 🏏🔥 \n\n\n\nGet ready to relive a day packed with excitement\, friendly competition\, and amazing team spirit. Whether you played or cheered from the sidelines\, your energy made it unforgettable! 🙌 \n\n\n\nStay tuned for more fun events coming soon !
URL:https://slsaeu.it/event/cricket-tournament-2025/
LOCATION:Torino Parco Colonnetti\, parco colonnetti\, torino\, torino\, 10134\, Italy
ATTACH;FMTTYPE=image/jpeg:https://slsaeu.it/wp-content/uploads/2025/04/Screenshot_20250408_235057_Instagram.jpg
END:VEVENT
END:VCALENDAR