BEGIN:VCALENDAR
VERSION:2.0
PRODID:-//SLSA - ECPv6.6.2//NONSGML v1.0//EN
CALSCALE:GREGORIAN
METHOD:PUBLISH
X-ORIGINAL-URL:https://slsaeu.it
X-WR-CALDESC:Events for SLSA
REFRESH-INTERVAL;VALUE=DURATION:PT1H
X-Robots-Tag:noindex
X-PUBLISHED-TTL:PT1H
BEGIN:VTIMEZONE
TZID:UTC
BEGIN:STANDARD
TZOFFSETFROM:+0000
TZOFFSETTO:+0000
TZNAME:UTC
DTSTART:20250101T000000
END:STANDARD
END:VTIMEZONE
BEGIN:VEVENT
DTSTART;TZID=UTC:20250503T090000
DTEND;TZID=UTC:20250503T170000
DTSTAMP:20260423T113628
CREATED:20250408T220413Z
LAST-MODIFIED:20250408T220414Z
UID:895-1746262800-1746291600@slsaeu.it
SUMMARY:Sarasawi Awurudu 2025
DESCRIPTION:☀Celebrate Sri Lankan New Year in Turin! ☀Step into the spirit of Avurudu with joy\, tradition\, and community! \n\n\n\nJoin us for an afternoon filled with cultural games\, traditional music\, dance performances\, and a feast of authentic Sri Lankan flavors. This celebration marks the Sinhala and Tamil New Year—honoring prosperity\, unity\, and the beauty of new beginnings. 🌸☀ \n\n\n\nThis special event is proudly brought to you by the Sri Lanka Student Association of Torino. \n\n\n\n🗓 Date: May 3\, 2025🕐 Time: 9:00 to 17:00📍 Location: Parco dora\, Torino \n\n\n\n🪔 Come dressed in your traditional attire\, bring your smiles\, and be ready to take part in beloved Avurudu games\, including Kotta Pora\, Kana Mutti\, and more! \n\n\n\n🍛 Enjoy a delicious spread of traditional Sri Lankan cuisine—from sweet treats like Kavum and Kokis\, to savory delights like Kiribath and Pol Sambol. Food will be available at on-site stalls for a small price. \n\n\n\n🎟 To join the celebration\, book your spot through Eventbrite at the link below! The event will be free of charge excluding food. We are looking forward to seeing you at our event!! \n\n\n\n👉 Reserve your spot here:https://www.eventbrite.com/e/sarasawi-awurudu-tickets-1298260956469?aff=ebdsshsms&utm_share_source=listing_android \n\n\n\nLet’s welcome the new year with laughter\, tradition\, and community spirit!Suba Aluth Avuruddak Wewa! 🌼
URL:https://slsaeu.it/event/sarasawi-awurudu-2025/
LOCATION:parco dora\, Parco dora\, torino\, torino\, 10144\, Italy
ATTACH;FMTTYPE=image/jpeg:https://slsaeu.it/wp-content/uploads/2025/04/IMG-20250401-WA0018.jpg
END:VEVENT
END:VCALENDAR