BEGIN:VCALENDAR
VERSION:2.0
PRODID:-//SLSA - ECPv6.6.2//NONSGML v1.0//EN
CALSCALE:GREGORIAN
METHOD:PUBLISH
X-WR-CALNAME:SLSA
X-ORIGINAL-URL:https://slsaeu.it
X-WR-CALDESC:Events for SLSA
REFRESH-INTERVAL;VALUE=DURATION:PT1H
X-Robots-Tag:noindex
X-PUBLISHED-TTL:PT1H
BEGIN:VTIMEZONE
TZID:UTC
BEGIN:STANDARD
TZOFFSETFROM:+0000
TZOFFSETTO:+0000
TZNAME:UTC
DTSTART:20240101T000000
END:STANDARD
END:VTIMEZONE
BEGIN:VEVENT
DTSTART;TZID=UTC:20241005T100000
DTEND;TZID=UTC:20241005T170000
DTSTAMP:20260423T205732
CREATED:20240930T205039Z
LAST-MODIFIED:20240930T214700Z
UID:837-1728122400-1728147600@slsaeu.it
SUMMARY:Orientation Day 2024
DESCRIPTION:The Sri Lankan Students’ Association at Politecnico di Torino is thrilled to invite all new students to Orientation Day on October 5th! 🎉✨ \n\n\n\nGet ready for a fun-filled day of informative sessions\, ice breakers\, and engaging games! It’s the perfect chance to make friends 🫂\, settle in\, and kick off your university journey with a bang! 🚀 \n\n\n\nSpread the word to all your Sri Lankan friends at Politecnico di Torino! 🇱🇰
URL:https://slsaeu.it/event/orientation-day-2024/
LOCATION:Politecnico di Torino\, Corso Duca degli Abruzzi\, 24\, torino\, Turin\, 10129\, Italy
ATTACH;FMTTYPE=image/jpeg:https://slsaeu.it/wp-content/uploads/2021/09/orientation-2024.jpg
END:VEVENT
END:VCALENDAR